BEGIN:VCALENDAR
VERSION:2.0
PRODID:-//Annapolis Pride - ECPv6.15.18//NONSGML v1.0//EN
CALSCALE:GREGORIAN
METHOD:PUBLISH
X-WR-CALNAME:Annapolis Pride
X-ORIGINAL-URL:https://www.annapolispride.org
X-WR-CALDESC:Events for Annapolis Pride
REFRESH-INTERVAL;VALUE=DURATION:PT1H
X-Robots-Tag:noindex
X-PUBLISHED-TTL:PT1H
BEGIN:VTIMEZONE
TZID:America/New_York
BEGIN:DAYLIGHT
TZOFFSETFROM:-0500
TZOFFSETTO:-0400
TZNAME:EDT
DTSTART:20250309T070000
END:DAYLIGHT
BEGIN:STANDARD
TZOFFSETFROM:-0400
TZOFFSETTO:-0500
TZNAME:EST
DTSTART:20251102T060000
END:STANDARD
BEGIN:DAYLIGHT
TZOFFSETFROM:-0500
TZOFFSETTO:-0400
TZNAME:EDT
DTSTART:20260308T070000
END:DAYLIGHT
BEGIN:STANDARD
TZOFFSETFROM:-0400
TZOFFSETTO:-0500
TZNAME:EST
DTSTART:20261101T060000
END:STANDARD
BEGIN:DAYLIGHT
TZOFFSETFROM:-0500
TZOFFSETTO:-0400
TZNAME:EDT
DTSTART:20270314T070000
END:DAYLIGHT
BEGIN:STANDARD
TZOFFSETFROM:-0400
TZOFFSETTO:-0500
TZNAME:EST
DTSTART:20271107T060000
END:STANDARD
END:VTIMEZONE
BEGIN:VEVENT
DTSTART;TZID=America/New_York:20260220T200000
DTEND;TZID=America/New_York:20260220T220000
DTSTAMP:20260419T110447
CREATED:20260219T224006Z
LAST-MODIFIED:20260226T183035Z
UID:10000638-1771617600-1771624800@www.annapolispride.org
SUMMARY:Suede @Rams Head OnStage
DESCRIPTION:NY press says she’s like Adele meets Diana Krall meets Bette Midler. Dare her. She was Joan Rivers’ opening act. Come see why!\nMultiple OUTMusic award winner\,Olivia Cruises headliner.
URL:https://www.annapolispride.org/event/suede-rams-head-onstage/
LOCATION:Rams Head: On Stage\, 31 West St\, Annapolis\, MD\, 21401\, United States
CATEGORIES:General Calendar
ATTACH;FMTTYPE=image/jpeg:https://www.annapolispride.org/wp-content/uploads/2026/02/inbound6795063170419743387.jpg
END:VEVENT
END:VCALENDAR